BEGIN:VCALENDAR
VERSION:2.0
PRODID:-//Mother of God - ECPv4.6.1//NONSGML v1.0//EN
CALSCALE:GREGORIAN
METHOD:PUBLISH
X-WR-CALNAME:Mother of God
X-ORIGINAL-URL:https://www.mogpalle.com
X-WR-CALDESC:Events for Mother of God
BEGIN:VEVENT
DTSTART;TZID=UTC+0:20220626T093000
DTEND;TZID=UTC+0:20220626T093000
DTSTAMP:20260422T174031
CREATED:20220622T115808Z
LAST-MODIFIED:20220622T115808Z
UID:1348-1656235800-1656235800@www.mogpalle.com
SUMMARY:10th World Meeting of Families (for couples) on the 26th of June
DESCRIPTION:
URL:https://www.mogpalle.com/upcoming-events/10th-world-meeting-families-couples-26th-june/
LOCATION:Naigaon West\, Palghar\, India
ATTACH;FMTTYPE=image/jpeg:https://www.mogpalle.com/wp-content/uploads/2022/06/10th-World-Meeting-of-Families.jpeg
END:VEVENT
END:VCALENDAR