BEGIN:VCALENDAR
VERSION:2.0
PRODID:-//Mother of God - ECPv4.6.1//NONSGML v1.0//EN
CALSCALE:GREGORIAN
METHOD:PUBLISH
X-WR-CALNAME:Mother of God
X-ORIGINAL-URL:https://www.mogpalle.com
X-WR-CALDESC:Events for Mother of God
BEGIN:VEVENT
DTSTART;VALUE=DATE:20180204
DTEND;VALUE=DATE:20180205
DTSTAMP:20260424T133623
CREATED:20180130T194038Z
LAST-MODIFIED:20180130T194136Z
UID:882-1517702400-1517788799@www.mogpalle.com
SUMMARY:A day for Couples
DESCRIPTION:The Family Cell has organised ‘A day for Couples\,’ on Sunday 4th February\, Passes @ Rs 200/- per Couple\, will be available after 7.45 pm Mass at the Grotto and after 9.30 am Mass.  \nKindly contact Family cell members. \n
URL:https://www.mogpalle.com/upcoming-events/a-day-for-couples/
END:VEVENT
END:VCALENDAR