BEGIN:VCALENDAR
VERSION:2.0
PRODID:-//Mother of God - ECPv4.6.1//NONSGML v1.0//EN
CALSCALE:GREGORIAN
METHOD:PUBLISH
X-WR-CALNAME:Mother of God
X-ORIGINAL-URL:https://www.mogpalle.com
X-WR-CALDESC:Events for Mother of God
BEGIN:VEVENT
DTSTART;TZID=UTC+0:20170806T100000
DTEND;TZID=UTC+0:20170806T110000
DTSTAMP:20260426T042444
CREATED:20170730T102824Z
LAST-MODIFIED:20170730T102824Z
UID:746-1502013600-1502017200@www.mogpalle.com
SUMMARY:Asian Youth Day
DESCRIPTION:On Sunday\, the 6th of August we will be celebrating Asian Youth Day. All the youth are requested to participate in the 9.30 am mass and after that there will be a celebration in the church hall. Parents are requested to encourage the youth to participate. \n
URL:https://www.mogpalle.com/upcoming-events/asian-youth-day/
LOCATION:Palle\, Naigaon West\, Palghar\, Maharashtra\, 401207\, India
END:VEVENT
END:VCALENDAR