BEGIN:VCALENDAR
VERSION:2.0
PRODID:-//Mother of God - ECPv4.6.1//NONSGML v1.0//EN
CALSCALE:GREGORIAN
METHOD:PUBLISH
X-WR-CALNAME:Mother of God
X-ORIGINAL-URL:https://www.mogpalle.com
X-WR-CALDESC:Events for Mother of God
BEGIN:VEVENT
DTSTART;TZID=UTC+0:20211105T180000
DTEND;TZID=UTC+0:20211105T180000
DTSTAMP:20260423T080710
CREATED:20211023T061832Z
LAST-MODIFIED:20211023T061832Z
UID:1132-1636135200-1636135200@www.mogpalle.com
SUMMARY:Badminton Tournament 2021(Men/Women)
DESCRIPTION:
URL:https://www.mogpalle.com/upcoming-events/badminton-tournament-2021men-women-2/
LOCATION:Naigaon West\, Palghar\, Maharashtra\, 401207\, India
ATTACH;FMTTYPE=image/jpeg:https://www.mogpalle.com/wp-content/uploads/2021/10/IMG-20211023-WA0003.jpg
END:VEVENT
END:VCALENDAR