BEGIN:VCALENDAR
VERSION:2.0
PRODID:-//Mother of God - ECPv4.6.1//NONSGML v1.0//EN
CALSCALE:GREGORIAN
METHOD:PUBLISH
X-WR-CALNAME:Mother of God
X-ORIGINAL-URL:https://www.mogpalle.com
X-WR-CALDESC:Events for Mother of God
BEGIN:VEVENT
DTSTART;TZID=UTC+0:20230326T080000
DTEND;TZID=UTC+0:20230326T130000
DTSTAMP:20260421T202332
CREATED:20230320T143046Z
LAST-MODIFIED:20230323T143245Z
UID:1420-1679817600-1679835600@www.mogpalle.com
SUMMARY:Blood Donation Camp
DESCRIPTION:“Blood donation is a great act of kindness.”\nMother of God Church is organizing a blood donation camp in collaboration with Sarla Blood Bank and with the help of the St. Vincent De Paul Society of MOG Church Palle. \n \n
URL:https://www.mogpalle.com/upcoming-events/blood-donation-camp/
LOCATION:Palle\, Naigaon West\, Palghar\, Maharashtra\, 401207\, India
END:VEVENT
END:VCALENDAR