BEGIN:VCALENDAR
VERSION:2.0
PRODID:-//Mother of God - ECPv4.6.1//NONSGML v1.0//EN
CALSCALE:GREGORIAN
METHOD:PUBLISH
X-WR-CALNAME:Mother of God
X-ORIGINAL-URL:https://www.mogpalle.com
X-WR-CALDESC:Events for Mother of God
BEGIN:VEVENT
DTSTART;TZID=UTC+0:20230330T093000
DTEND;TZID=UTC+0:20230330T093000
DTSTAMP:20260421T170128
CREATED:20230329T085434Z
LAST-MODIFIED:20230329T091021Z
UID:1430-1680168600-1680168600@www.mogpalle.com
SUMMARY:Career Guidance
DESCRIPTION:For students of 8th\, 9th\, 10th\, 11thj & 12th Std. \n \n
URL:https://www.mogpalle.com/upcoming-events/career-guidance/
LOCATION:Palle\, Naigaon West\, Palghar\, Maharashtra\, 401207\, India
END:VEVENT
END:VCALENDAR