BEGIN:VCALENDAR
VERSION:2.0
PRODID:-//Mother of God - ECPv4.6.1//NONSGML v1.0//EN
CALSCALE:GREGORIAN
METHOD:PUBLISH
X-WR-CALNAME:Mother of God
X-ORIGINAL-URL:https://www.mogpalle.com
X-WR-CALDESC:Events for Mother of God
BEGIN:VEVENT
DTSTART;TZID=UTC+0:20171227T160000
DTEND;TZID=UTC+0:20171227T190000
DTSTAMP:20260424T175443
CREATED:20171219T143318Z
LAST-MODIFIED:20171219T143913Z
UID:869-1514390400-1514401200@www.mogpalle.com
SUMMARY:Christmas Charisma Children's Sports and Tree Party
DESCRIPTION:
URL:https://www.mogpalle.com/upcoming-events/christmas-charisma-childrens-sports-and-tree-party/
ATTACH;FMTTYPE=image/jpeg:https://www.mogpalle.com/wp-content/uploads/2017/12/ANewDesign2-1.jpg
END:VEVENT
END:VCALENDAR