BEGIN:VCALENDAR
VERSION:2.0
PRODID:-//Mother of God - ECPv4.6.1//NONSGML v1.0//EN
CALSCALE:GREGORIAN
METHOD:PUBLISH
X-WR-CALNAME:Mother of God
X-ORIGINAL-URL:https://www.mogpalle.com
X-WR-CALDESC:Events for Mother of God
BEGIN:VEVENT
DTSTART;TZID=UTC+0:20171229T180000
DTEND;TZID=UTC+0:20171229T210000
DTSTAMP:20260424T151302
CREATED:20171219T143827Z
LAST-MODIFIED:20171219T143827Z
UID:876-1514570400-1514581200@www.mogpalle.com
SUMMARY:Christmas Charisma Family Day
DESCRIPTION:  \nAn evening of Carols\, Family Games\, Dance and Dinner. \n
URL:https://www.mogpalle.com/upcoming-events/christmas-charisma-family-day/
ATTACH;FMTTYPE=image/jpeg:https://www.mogpalle.com/wp-content/uploads/2017/12/ANewDesign2-1.jpg
END:VEVENT
END:VCALENDAR