BEGIN:VCALENDAR
VERSION:2.0
PRODID:-//Mother of God - ECPv4.6.1//NONSGML v1.0//EN
CALSCALE:GREGORIAN
METHOD:PUBLISH
X-WR-CALNAME:Mother of God
X-ORIGINAL-URL:https://www.mogpalle.com
X-WR-CALDESC:Events for Mother of God
BEGIN:VEVENT
DTSTART;TZID=UTC+0:20221228T190000
DTEND;TZID=UTC+0:20221228T233000
DTSTAMP:20260421T230211
CREATED:20221230T161309Z
LAST-MODIFIED:20221230T161309Z
UID:1391-1672254000-1672270200@www.mogpalle.com
SUMMARY:Christmas Dhamaka on 28th December 2022
DESCRIPTION:This is the season to be jolly and spread the cheer of Christmas Spirit!\nThe youth of Mother Of God Church Palle have organised THE CHRISTMAS DHAMAKA\nAn evening filled with music\, dance and entertainment gallore!!\nAnd to top it all off\, the youth and children have put together a beautiful play to honour and celebrate the HOLY FAMILY but with a modern and musical twist!\nIt would be great to see all our parishioners coming in large numbers to support and encourage our young ones! \n
URL:https://www.mogpalle.com/upcoming-events/christmas-dhamaka-28th-december-2022/
LOCATION:Naigaon West\, Palghar\, Maharashtra\, 401207\, India
END:VEVENT
END:VCALENDAR