BEGIN:VCALENDAR
VERSION:2.0
PRODID:-//Mother of God - ECPv4.6.1//NONSGML v1.0//EN
CALSCALE:GREGORIAN
METHOD:PUBLISH
X-WR-CALNAME:Mother of God
X-ORIGINAL-URL:https://www.mogpalle.com
X-WR-CALDESC:Events for Mother of God
BEGIN:VEVENT
DTSTART;VALUE=DATE:20180315
DTEND;VALUE=DATE:20180317
DTSTAMP:20260424T045802
CREATED:20180311T092347Z
LAST-MODIFIED:20180311T092347Z
UID:906-1521072000-1521244799@www.mogpalle.com
SUMMARY:Confessions during Lent
DESCRIPTION:Confessions will be heard on 15th and 16th in the Church. Priests will be available from outside. We request you all to make your confessions. Before coming for your confessions please prepare yourself by reading the Vatsalya regarding making a Good Confession. \n
URL:https://www.mogpalle.com/upcoming-events/confessions-during-lent/
LOCATION:Palle\, Naigaon West\, Palghar\, Maharashtra\, 401207\, India
END:VEVENT
END:VCALENDAR