BEGIN:VCALENDAR
VERSION:2.0
PRODID:-//Mother of God - ECPv4.6.1//NONSGML v1.0//EN
CALSCALE:GREGORIAN
METHOD:PUBLISH
X-WR-CALNAME:Mother of God
X-ORIGINAL-URL:https://www.mogpalle.com
X-WR-CALDESC:Events for Mother of God
BEGIN:VEVENT
DTSTART;VALUE=DATE:20180527
DTEND;VALUE=DATE:20180528
DTSTAMP:20260423T204938
CREATED:20180501T164347Z
LAST-MODIFIED:20180520T193329Z
UID:925-1527379200-1527465599@www.mogpalle.com
SUMMARY:Parish Food Festival and Open Group Dance Competition
DESCRIPTION:Food Festival will be on Sunday 27th May instead of 20th May as announced last week. Each Zone should put up on stall of food. Entry fee Rs. 100/- \nFood item selected should be reported beforehand to avoid repetition. \nThere will be cultural competitions as follows: \nSchool Children – Retro style Dance \nYouth – Folk Dance \nAdults – Folk Songs \nEntry fee for each category Rs. 100/- minimum 2 entry from each Community. \n
URL:https://www.mogpalle.com/upcoming-events/food-festival/
LOCATION:Palle\, Naigaon West\, Palghar\, Maharashtra\, 401207\, India
END:VEVENT
END:VCALENDAR