BEGIN:VCALENDAR
VERSION:2.0
PRODID:-//Mother of God - ECPv4.6.1//NONSGML v1.0//EN
CALSCALE:GREGORIAN
METHOD:PUBLISH
X-WR-CALNAME:Mother of God
X-ORIGINAL-URL:https://www.mogpalle.com
X-WR-CALDESC:Events for Mother of God
BEGIN:VEVENT
DTSTART;VALUE=DATE:20171022
DTEND;VALUE=DATE:20171023
DTSTAMP:20260424T220211
CREATED:20171008T063619Z
LAST-MODIFIED:20171008T063619Z
UID:820-1508630400-1508716799@www.mogpalle.com
SUMMARY:Football Tournament
DESCRIPTION:We have organized the Football tournament on 22nd October in our Church\, those Community/ groups want to participate can collect the entry form from the church office\, last date of entry is 17th October. \n
URL:https://www.mogpalle.com/upcoming-events/football-tournament/
LOCATION:Naigaon West\, Palghar\, Maharashtra\, 401207\, India
ATTACH;FMTTYPE=image/png:https://www.mogpalle.com/wp-content/uploads/2017/10/soccer-308957_640.png
END:VEVENT
END:VCALENDAR