BEGIN:VCALENDAR
VERSION:2.0
PRODID:-//Mother of God - ECPv4.6.1//NONSGML v1.0//EN
CALSCALE:GREGORIAN
METHOD:PUBLISH
X-WR-CALNAME:Mother of God
X-ORIGINAL-URL:https://www.mogpalle.com
X-WR-CALDESC:Events for Mother of God
BEGIN:VEVENT
DTSTART;TZID=UTC+0:20230401T093000
DTEND;TZID=UTC+0:20230401T120000
DTSTAMP:20260421T153055
CREATED:20230331T113415Z
LAST-MODIFIED:20230331T113415Z
UID:1435-1680341400-1680350400@www.mogpalle.com
SUMMARY:Free Blood Test Camp
DESCRIPTION:Mother of God Church\, Palle in association with Nagri Arogya Kendra\, Vasai Virar Mahanagar Palika and with the help of the St. Vincent De Paul association has organized a free blood test camp. Blood group (if required)\, CBC\, Glucose\, Creatinine\, SGPT/ SGOT\, Uric Acid & Cholesterol. The first 70 names will be taken. 8 hours of fasting is required prior to testing. Reports will be available on Wednesday evening. \n \n
URL:https://www.mogpalle.com/upcoming-events/free-blood-test-camp/
LOCATION:Palle\, Naigaon West\, Palghar\, Maharashtra\, 401207\, India
END:VEVENT
END:VCALENDAR