BEGIN:VCALENDAR
VERSION:2.0
PRODID:-//Mother of God - ECPv4.6.1//NONSGML v1.0//EN
CALSCALE:GREGORIAN
METHOD:PUBLISH
X-WR-CALNAME:Mother of God
X-ORIGINAL-URL:https://www.mogpalle.com
X-WR-CALDESC:Events for Mother of God
BEGIN:VEVENT
DTSTART;VALUE=DATE:20180320
DTEND;VALUE=DATE:20180323
DTSTAMP:20260424T020731
CREATED:20180311T092208Z
LAST-MODIFIED:20180311T095916Z
UID:904-1521504000-1521763199@www.mogpalle.com
SUMMARY:General Lenten Retreat in English/Konkani
DESCRIPTION:General Lenten Retreat in English/Konkani will be on 20th \,21st & 22nd March at 7 to 9 pm in our Church. \nThe preacher will be Fr. Robert D’Souza. \n
URL:https://www.mogpalle.com/upcoming-events/general-lenten-retreat-englishkonkani/
LOCATION:Palle\, Naigaon West\, Palghar\, Maharashtra\, 401207\, India
ATTACH;FMTTYPE=image/jpeg:https://www.mogpalle.com/wp-content/uploads/2018/03/ANewDesign22.jpg
END:VEVENT
END:VCALENDAR