BEGIN:VCALENDAR
VERSION:2.0
PRODID:-//Mother of God - ECPv4.6.1//NONSGML v1.0//EN
CALSCALE:GREGORIAN
METHOD:PUBLISH
X-WR-CALNAME:Mother of God
X-ORIGINAL-URL:https://www.mogpalle.com
X-WR-CALDESC:Events for Mother of God
BEGIN:VEVENT
DTSTART;VALUE=DATE:20180826
DTEND;VALUE=DATE:20180827
DTSTAMP:20260423T190306
CREATED:20180902T184008Z
LAST-MODIFIED:20180902T190211Z
UID:944-1535241600-1535327999@www.mogpalle.com
SUMMARY:Get Together for the Widows\, Widowers and Singles
DESCRIPTION:\n\n\n
URL:https://www.mogpalle.com/upcoming-events/get-together-widows-widowers-singles/
ATTACH;FMTTYPE=image/png:https://www.mogpalle.com/wp-content/uploads/2018/09/circle-1300241_640.png
END:VEVENT
END:VCALENDAR