BEGIN:VCALENDAR
VERSION:2.0
PRODID:-//Mother of God - ECPv4.6.1//NONSGML v1.0//EN
CALSCALE:GREGORIAN
METHOD:PUBLISH
X-WR-CALNAME:Mother of God
X-ORIGINAL-URL:https://www.mogpalle.com
X-WR-CALDESC:Events for Mother of God
BEGIN:VEVENT
DTSTART;TZID=UTC+0:20170825T160000
DTEND;TZID=UTC+0:20170825T170000
DTSTAMP:20260425T172955
CREATED:20170819T183127Z
LAST-MODIFIED:20170819T183127Z
UID:785-1503676800-1503680400@www.mogpalle.com
SUMMARY:Holy Hour for Sunday School Children
DESCRIPTION:
URL:https://www.mogpalle.com/upcoming-events/holy-hour-for-sunday-school-children/
LOCATION:Palle\, Naigaon West\, Palghar\, Maharashtra\, 401207\, India
END:VEVENT
END:VCALENDAR