BEGIN:VCALENDAR
VERSION:2.0
PRODID:-//Mother of God - ECPv4.6.1//NONSGML v1.0//EN
CALSCALE:GREGORIAN
METHOD:PUBLISH
X-WR-CALNAME:Mother of God
X-ORIGINAL-URL:https://www.mogpalle.com
X-WR-CALDESC:Events for Mother of God
BEGIN:VEVENT
DTSTART;TZID=UTC+0:20221124T183000
DTEND;TZID=UTC+0:20221124T183000
DTSTAMP:20260422T133837
CREATED:20221108T110253Z
LAST-MODIFIED:20221108T110253Z
UID:1375-1669314600-1669314600@www.mogpalle.com
SUMMARY:Indoor Games 2022
DESCRIPTION:
URL:https://www.mogpalle.com/upcoming-events/indoor-games-2022/
LOCATION:Naigaon West\, Palghar\, Maharashtra\, 401207\, India
ATTACH;FMTTYPE=image/jpeg:https://www.mogpalle.com/wp-content/uploads/2022/11/indoorgames2022.jpeg
END:VEVENT
END:VCALENDAR