BEGIN:VCALENDAR
VERSION:2.0
PRODID:-//Mother of God - ECPv4.6.1//NONSGML v1.0//EN
CALSCALE:GREGORIAN
METHOD:PUBLISH
X-WR-CALNAME:Mother of God
X-ORIGINAL-URL:https://www.mogpalle.com
X-WR-CALDESC:Events for Mother of God
BEGIN:VEVENT
DTSTART;TZID=UTC+0:20171205T183000
DTEND;TZID=UTC+0:20171207T000000
DTSTAMP:20260424T192834
CREATED:20171212T182526Z
LAST-MODIFIED:20171212T182526Z
UID:864-1512498600-1512604800@www.mogpalle.com
SUMMARY:“Life in the Spirit” Seminar in Marathi
DESCRIPTION:“Life in the Spirit” Seminar in Marathi\, at 6.30 pm in the Church\, with Praise and Worship followed by Homily and Benediction. \n
URL:https://www.mogpalle.com/upcoming-events/life-spirit-seminar-marathi/
LOCATION:Palle\, Naigaon West\, Palghar\, Maharashtra\, 401207\, India
ATTACH;FMTTYPE=image/png:https://www.mogpalle.com/wp-content/uploads/2017/12/choir-306900_640.png
END:VEVENT
END:VCALENDAR