BEGIN:VCALENDAR
VERSION:2.0
PRODID:-//Mother of God - ECPv4.6.1//NONSGML v1.0//EN
CALSCALE:GREGORIAN
METHOD:PUBLISH
X-WR-CALNAME:Mother of God
X-ORIGINAL-URL:https://www.mogpalle.com
X-WR-CALDESC:Events for Mother of God
BEGIN:VEVENT
DTSTART;TZID=UTC+0:20180920T070000
DTEND;TZID=UTC+0:20180920T090000
DTSTAMP:20260423T161111
CREATED:20180917T190059Z
LAST-MODIFIED:20180917T190200Z
UID:969-1537426800-1537434000@www.mogpalle.com
SUMMARY:Lipid profile and other medical tests Camp
DESCRIPTION:In collaboration with Bassein Catholic Co Op Bank ltd. and Cardinal Gracias Memorial Hospital trust our Society of St. Vincent de Paul has organised Lipid profile and other tests on Thursday 20th September 2018 from 7am to 9am in the Church hall for Rs. 100/- only. It is a subsidised charges\, actual charges are Rs.500/-. Kindly register your names to SVP members with Rs. 100/- after the mass. They are available outside. \n
URL:https://www.mogpalle.com/upcoming-events/lipid-profile-medical-tests-camp/
ATTACH;FMTTYPE=image/png:https://www.mogpalle.com/wp-content/uploads/2018/09/emergency-910093__340.png
END:VEVENT
END:VCALENDAR