BEGIN:VCALENDAR
VERSION:2.0
PRODID:-//Mother of God - ECPv4.6.1//NONSGML v1.0//EN
CALSCALE:GREGORIAN
METHOD:PUBLISH
X-WR-CALNAME:Mother of God
X-ORIGINAL-URL:https://www.mogpalle.com
X-WR-CALDESC:Events for Mother of God
BEGIN:VEVENT
DTSTART;TZID=UTC+0:20180909T103000
DTEND;TZID=UTC+0:20180909T130000
DTSTAMP:20260423T173513
CREATED:20180902T185358Z
LAST-MODIFIED:20180902T185448Z
UID:947-1536489000-1536498000@www.mogpalle.com
SUMMARY:Monthi Fest Celebration
DESCRIPTION:Mother of God Konkani Group will be celebrating Monthi fest on the 9th September; there will be a procession from Our Lady of Nazareth grotto\, at 10.30am followed by Konkani Mass. Thereafter a Cultural program has been organised in the church hall and ‘Nove Jevan’ will be served. \nCoupons are available with the members.\n
URL:https://www.mogpalle.com/upcoming-events/monthi-fest-celebration/
ATTACH;FMTTYPE=image/jpeg:https://www.mogpalle.com/wp-content/uploads/2018/09/1_virgin_mary-1.jpg
END:VEVENT
END:VCALENDAR