BEGIN:VCALENDAR
VERSION:2.0
PRODID:-//Mother of God - ECPv4.6.1//NONSGML v1.0//EN
CALSCALE:GREGORIAN
METHOD:PUBLISH
X-WR-CALNAME:Mother of God
X-ORIGINAL-URL:https://www.mogpalle.com
X-WR-CALDESC:Events for Mother of God
BEGIN:VEVENT
DTSTART;VALUE=DATE:20170910
DTEND;VALUE=DATE:20170911
DTSTAMP:20260425T112928
CREATED:20170819T190847Z
LAST-MODIFIED:20170903T185752Z
UID:787-1505001600-1505087999@www.mogpalle.com
SUMMARY:Monti Feast
DESCRIPTION:Monte Fest will be celebrated on 10th September with a procession starting from the Lady of Nazareth grotto at 10.15 am followed by Konkani Mass and a Program in the Church Hall. \nCoupons are available with the members. Kindly get your coupons by the 7 th September. \n
URL:https://www.mogpalle.com/upcoming-events/monti-feast/
LOCATION:Palle\, Naigaon West\, Palghar\, Maharashtra\, 401207\, India
END:VEVENT
END:VCALENDAR