BEGIN:VCALENDAR
VERSION:2.0
PRODID:-//Mother of God - ECPv4.6.1//NONSGML v1.0//EN
CALSCALE:GREGORIAN
METHOD:PUBLISH
X-WR-CALNAME:Mother of God
X-ORIGINAL-URL:https://www.mogpalle.com
X-WR-CALDESC:Events for Mother of God
BEGIN:VEVENT
DTSTART;TZID=UTC+0:20180223T190000
DTEND;TZID=UTC+0:20180223T220000
DTSTAMP:20260424T104728
CREATED:20180221T164932Z
LAST-MODIFIED:20180221T164932Z
UID:897-1519412400-1519423200@www.mogpalle.com
SUMMARY:Night Vigil
DESCRIPTION:Prayer group has organised Night vigil on Friday 23rd Feb. from 7 to 10 pm in the Church. \n
URL:https://www.mogpalle.com/upcoming-events/night-vigil-2/
LOCATION:Palle\, Naigaon West\, Palghar\, Maharashtra\, 401207\, India
END:VEVENT
END:VCALENDAR