BEGIN:VCALENDAR
VERSION:2.0
PRODID:-//Mother of God - ECPv4.6.1//NONSGML v1.0//EN
CALSCALE:GREGORIAN
METHOD:PUBLISH
X-WR-CALNAME:Mother of God
X-ORIGINAL-URL:https://www.mogpalle.com
X-WR-CALDESC:Events for Mother of God
BEGIN:VEVENT
DTSTART;TZID=UTC+0:20170815T163000
DTEND;TZID=UTC+0:20170815T183000
DTSTAMP:20260425T223338
CREATED:20170730T102941Z
LAST-MODIFIED:20170730T102941Z
UID:748-1502814600-1502821800@www.mogpalle.com
SUMMARY:Seminar for newly elected SCC animators
DESCRIPTION:There will be a seminar for all newly elected SCC animators on 15th August\, Tuesday\, from 4.30 pm to 6.30 pm. This seminar will focus on the responsibilities\, roles and functioning of the animators in pastoral care service. \n
URL:https://www.mogpalle.com/upcoming-events/seminar-for-newly-elected-scc-animators/
LOCATION:Palle\, Naigaon West\, Palghar\, Maharashtra\, 401207\, India
END:VEVENT
END:VCALENDAR