BEGIN:VCALENDAR
VERSION:2.0
PRODID:-//Mother of God - ECPv4.6.1//NONSGML v1.0//EN
CALSCALE:GREGORIAN
METHOD:PUBLISH
X-WR-CALNAME:Mother of God
X-ORIGINAL-URL:https://www.mogpalle.com
X-WR-CALDESC:Events for Mother of God
BEGIN:VEVENT
DTSTART;TZID=UTC+0:20170820T103000
DTEND;TZID=UTC+0:20170820T123000
DTSTAMP:20260425T210854
CREATED:20170730T103055Z
LAST-MODIFIED:20170819T182502Z
UID:750-1503225000-1503232200@www.mogpalle.com
SUMMARY:Seminar on 'Sacredness of the Body' for young girls aged between 12 to 25 years
DESCRIPTION:On 20th August\, Sunday after 9.30am mass a seminar on ‘Sacredness of the Body’ has been organized for girls aged between 12 to 25 yrs in the church hall. Timing will be 10.30am to 12.30pm. \n
URL:https://www.mogpalle.com/upcoming-events/seminar-for-young-girls-aged-between-12-to-25-years/
LOCATION:Palle\, Naigaon West\, Palghar\, Maharashtra\, 401207\, India
END:VEVENT
END:VCALENDAR