BEGIN:VCALENDAR
VERSION:2.0
PRODID:-//Mother of God - ECPv4.6.1//NONSGML v1.0//EN
CALSCALE:GREGORIAN
METHOD:PUBLISH
X-WR-CALNAME:Mother of God
X-ORIGINAL-URL:https://www.mogpalle.com
X-WR-CALDESC:Events for Mother of God
BEGIN:VEVENT
DTSTART;TZID=UTC+0:20171008T173000
DTEND;TZID=UTC+0:20171008T190000
DTSTAMP:20260425T030737
CREATED:20171008T060543Z
LAST-MODIFIED:20171008T065127Z
UID:811-1507483800-1507489200@www.mogpalle.com
SUMMARY:Special movie show on the life of Australian missionary Graham Stains & Glades Stains
DESCRIPTION:A special movie show on the life of Australian missionary Graham Stains & Glades Stains will be shown in the Church hall on 08.10.2017 at 5.30 pm\, the director & the producers of the movie will be present. Due to some communal issues this movie cannot be released in the theaters\, therefore we have arranged a special show of the movie for our people\, cost of the tickets is Rs.50/- per person. \n
URL:https://www.mogpalle.com/upcoming-events/special-movie-show-on-the-life-of-australian-missionary-graham-stains-glades-stains1/
LOCATION:Palle\, Naigaon West\, Palghar\, Maharashtra\, 401207\, India
ATTACH;FMTTYPE=image/png:https://www.mogpalle.com/wp-content/uploads/2017/10/movie-28041_640.png
END:VEVENT
END:VCALENDAR