BEGIN:VCALENDAR
VERSION:2.0
PRODID:-//Mother of God - ECPv4.6.1//NONSGML v1.0//EN
CALSCALE:GREGORIAN
METHOD:PUBLISH
X-WR-CALNAME:Mother of God
X-ORIGINAL-URL:https://www.mogpalle.com
X-WR-CALDESC:Events for Mother of God
BEGIN:VEVENT
DTSTART;TZID=UTC+0:20180219T090000
DTEND;TZID=UTC+0:20180219T110000
DTSTAMP:20260424T121634
CREATED:20180221T164708Z
LAST-MODIFIED:20180221T164708Z
UID:892-1519030800-1519038000@www.mogpalle.com
SUMMARY:A special programme on occasion of Year of Vocation for school children
DESCRIPTION:All school children are cordially invited by Fr. Nobel has organised ‘special programme’ on occasion of year of Vocation on Monday 19th Feb from 9 to 11am in the church. \n
URL:https://www.mogpalle.com/upcoming-events/special-programme-occasion-year-vocation-school-children/
LOCATION:Palle\, Naigaon West\, Palghar\, Maharashtra\, 401207\, India
END:VEVENT
END:VCALENDAR