BEGIN:VCALENDAR
VERSION:2.0
PRODID:-//Mother of God - ECPv4.6.1//NONSGML v1.0//EN
CALSCALE:GREGORIAN
METHOD:PUBLISH
X-WR-CALNAME:Mother of God
X-ORIGINAL-URL:https://www.mogpalle.com
X-WR-CALDESC:Events for Mother of God
BEGIN:VEVENT
DTSTART;VALUE=DATE:20180317
DTEND;VALUE=DATE:20180318
DTSTAMP:20260424T032829
CREATED:20180311T092511Z
LAST-MODIFIED:20180311T092511Z
UID:908-1521244800-1521331199@www.mogpalle.com
SUMMARY:Special Session for Youth on 'Assessment of relationships' by Dr. Sophie
DESCRIPTION:There will be a special session for Youth on Saturday 17th March by Dr Sophie in our Church hall\, Fr. Nobel will send invitation letters to zones. The topic will be “Assessment of relationship”. \n
URL:https://www.mogpalle.com/upcoming-events/special-session-youth-assessment-relationships-dr-sophie/
LOCATION:Palle\, Naigaon West\, Palghar\, Maharashtra\, 401207\, India
END:VEVENT
END:VCALENDAR