BEGIN:VCALENDAR
VERSION:2.0
PRODID:-//Mother of God - ECPv4.6.1//NONSGML v1.0//EN
CALSCALE:GREGORIAN
METHOD:PUBLISH
X-WR-CALNAME:Mother of God
X-ORIGINAL-URL:https://www.mogpalle.com
X-WR-CALDESC:Events for Mother of God
BEGIN:VEVENT
DTSTART;TZID=UTC+0:20230424T150000
DTEND;TZID=UTC+0:20230428T180000
DTSTAMP:20260421T143245
CREATED:20230415T064932Z
LAST-MODIFIED:20230415T065317Z
UID:1464-1682348400-1682704800@www.mogpalle.com
SUMMARY:Summer Camp 2023
DESCRIPTION:Hey everybody!☀\nThe most awaited event of the year is here… SUMMER CAMP 2023! 🥳🥳\nCome frolic and play in the sun. This summer camp is open to everyone! \nDates:-\n24th-28th April: Summer camp for kiddos! (1st to 10th Std. only) 🏸\n30th April: Picnic! 🏊🏻‍♂ \nVenue: MOG Church\, Palle.\nTimings: 3 pm to 6 pm\nRegistration fee: ₹80 (please keep in mind that picnic charges will be separate) \nYou can register in person on 24th April or by using the following link:\nRegistration for Kids – Summer Camp 2023 \nPlease note: Catholic and non-Catholic children are welcome to attend the summer camp! \nSummer Camp 2023 will be more fun than ever! 🍉 \nFor further questions and queries:\nNoel Gonsalves: 9820600034\nLindell D’souza: 7710892270\nChiara Correa: 7796068632 \n \n
URL:https://www.mogpalle.com/upcoming-events/summer-camp-2023/
LOCATION:Palle\, Naigaon West\, Palghar\, Maharashtra\, 401207\, India
END:VEVENT
END:VCALENDAR