BEGIN:VCALENDAR
VERSION:2.0
PRODID:-//Mother of God - ECPv4.6.1//NONSGML v1.0//EN
CALSCALE:GREGORIAN
METHOD:PUBLISH
X-WR-CALNAME:Mother of God
X-ORIGINAL-URL:https://www.mogpalle.com
X-WR-CALDESC:Events for Mother of God
BEGIN:VEVENT
DTSTART;VALUE=DATE:20180501
DTEND;VALUE=DATE:20180502
DTSTAMP:20260423T233336
CREATED:20180501T163603Z
LAST-MODIFIED:20180501T163603Z
UID:921-1525132800-1525219199@www.mogpalle.com
SUMMARY:Summer Camp for Adults/Parents
DESCRIPTION:Summer camp for adults/Parents will be held on 1st May. We request the PPC members to give the names of the adults who will take part in the Summer camp. \n
URL:https://www.mogpalle.com/upcoming-events/summer-camp-adultsparents/
LOCATION:Palle\, Naigaon West\, Palghar\, Maharashtra\, 401207\, India
END:VEVENT
END:VCALENDAR