BEGIN:VCALENDAR
VERSION:2.0
PRODID:-//Mother of God - ECPv4.6.1//NONSGML v1.0//EN
CALSCALE:GREGORIAN
METHOD:PUBLISH
X-WR-CALNAME:Mother of God
X-ORIGINAL-URL:https://www.mogpalle.com
X-WR-CALDESC:Events for Mother of God
BEGIN:VEVENT
DTSTART;VALUE=DATE:20180429
DTEND;VALUE=DATE:20180505
DTSTAMP:20260424T005144
CREATED:20180501T163416Z
LAST-MODIFIED:20180501T163514Z
UID:919-1524960000-1525478399@www.mogpalle.com
SUMMARY:Summer Camp for Children
DESCRIPTION:The Youth will be organising a Summer Camp for children between the age group 7 to 15 yrs. from 29th April 2018 to 4th May 2018 with an entry fee of Rs.50/- \n
URL:https://www.mogpalle.com/upcoming-events/summer-camp-children/
LOCATION:Palle\, Naigaon West\, Palghar\, Maharashtra\, 401207\, India
ATTACH;FMTTYPE=image/png:https://www.mogpalle.com/wp-content/uploads/2017/04/kite-149688_640.png
END:VEVENT
END:VCALENDAR