BEGIN:VCALENDAR
VERSION:2.0
PRODID:-//Mother of God - ECPv4.6.1//NONSGML v1.0//EN
CALSCALE:GREGORIAN
METHOD:PUBLISH
X-WR-CALNAME:Mother of God
X-ORIGINAL-URL:https://www.mogpalle.com
X-WR-CALDESC:Events for Mother of God
BEGIN:VEVENT
DTSTART;TZID=UTC+0:20171204T193000
DTEND;TZID=UTC+0:20171204T203000
DTSTAMP:20260424T204129
CREATED:20171212T182227Z
LAST-MODIFIED:20171212T182227Z
UID:862-1512415800-1512419400@www.mogpalle.com
SUMMARY:Taize prayer
DESCRIPTION:Mass will be at 7 pm and Taize prayer has been organized from 7.30 pm to 8.30 pm for all but specially for the Youth \n
URL:https://www.mogpalle.com/upcoming-events/taize-prayer-2/
LOCATION:Palle\, Naigaon West\, Palghar\, Maharashtra\, 401207\, India
ATTACH;FMTTYPE=image/jpeg:https://www.mogpalle.com/wp-content/uploads/2016/09/18836887_1904818323092012_8215432165296502652_o-1.jpg
END:VEVENT
END:VCALENDAR