BEGIN:VCALENDAR
VERSION:2.0
PRODID:-//Mother of God - ECPv4.6.1//NONSGML v1.0//EN
CALSCALE:GREGORIAN
METHOD:PUBLISH
X-WR-CALNAME:Mother of God
X-ORIGINAL-URL:https://www.mogpalle.com
X-WR-CALDESC:Events for Mother of God
BEGIN:VEVENT
DTSTART;TZID=UTC+0:20170827T103000
DTEND;TZID=UTC+0:20170827T123000
DTSTAMP:20260425T144618
CREATED:20170730T103207Z
LAST-MODIFIED:20170730T103207Z
UID:752-1503829800-1503837000@www.mogpalle.com
SUMMARY:Training Seminars for those who are to receive the Sacrament of Matrimony
DESCRIPTION:Training Seminars have been arranged for those who are to receive the Sacrament of Matrimony. Dates of the seminars are as follows: 27th August and 3rd September for the candidates and on 10th September for the parents. All dates are on Sundays and the timings are: from 10.30 am to 12.30 pm. \n
URL:https://www.mogpalle.com/upcoming-events/training-seminars-for-those-who-are-to-receive-the-sacrament-of-matrimony/
LOCATION:Palle\, Naigaon West\, Palghar\, Maharashtra\, 401207\, India
END:VEVENT
END:VCALENDAR