BEGIN:VCALENDAR
VERSION:2.0
PRODID:-//Mother of God - ECPv4.6.1//NONSGML v1.0//EN
CALSCALE:GREGORIAN
METHOD:PUBLISH
X-WR-CALNAME:Mother of God
X-ORIGINAL-URL:https://www.mogpalle.com
X-WR-CALDESC:Events for Mother of God
BEGIN:VEVENT
DTSTART;VALUE=DATE:20180514
DTEND;VALUE=DATE:20180520
DTSTAMP:20260423T221216
CREATED:20180501T164230Z
LAST-MODIFIED:20180501T164230Z
UID:923-1526256000-1526774399@www.mogpalle.com
SUMMARY:Underarm Cricket tournament
DESCRIPTION:Underarm Cricket tournament has been planned from Monday 14th to 19th May in our Parish for three different groups: \n1) School Children \n2) Open \n3) Couples \nForms will be available in our Church office. \n
URL:https://www.mogpalle.com/upcoming-events/underarm-cricket-tournament/
END:VEVENT
END:VCALENDAR