BEGIN:VCALENDAR
VERSION:2.0
PRODID:-//Mother of God - ECPv4.6.1//NONSGML v1.0//EN
CALSCALE:GREGORIAN
METHOD:PUBLISH
X-WR-CALNAME:Mother of God
X-ORIGINAL-URL:https://www.mogpalle.com
X-WR-CALDESC:Events for Mother of God
BEGIN:VEVENT
DTSTART;TZID=UTC+0:20211030T080000
DTEND;TZID=UTC+0:20211030T080000
DTSTAMP:20260423T114834
CREATED:20211023T060532Z
LAST-MODIFIED:20211023T060532Z
UID:1123-1635580800-1635580800@www.mogpalle.com
SUMMARY:Youth Group Presents Rink Football 2021
DESCRIPTION:
URL:https://www.mogpalle.com/upcoming-events/youth-group-presents-rink-football-2021/
LOCATION:Naigaon West\, Palghar\, Maharashtra\, 401207\, India
ATTACH;FMTTYPE=image/jpeg:https://www.mogpalle.com/wp-content/uploads/2021/10/IMG-20211023-WA0002.jpg
END:VEVENT
END:VCALENDAR