BEGIN:VCALENDAR
VERSION:2.0
PRODID:-//Mother of God - ECPv4.6.1//NONSGML v1.0//EN
CALSCALE:GREGORIAN
METHOD:PUBLISH
X-WR-CALNAME:Mother of God
X-ORIGINAL-URL:https://www.mogpalle.com
X-WR-CALDESC:Events for Mother of God
BEGIN:VEVENT
DTSTART;VALUE=DATE:20211030
DTEND;VALUE=DATE:20211115
DTSTAMP:20260423T120719
CREATED:20211023T053004Z
LAST-MODIFIED:20211023T053206Z
UID:1117-1635552000-1636934399@www.mogpalle.com
SUMMARY:Youth Group Presents Sports Festival 2021
DESCRIPTION:
URL:https://www.mogpalle.com/upcoming-events/youth-group-presents-sports-festival-2021/
LOCATION:Naigaon West\, Palghar\, Maharashtra\, 401207\, India
ATTACH;FMTTYPE=image/jpeg:https://www.mogpalle.com/wp-content/uploads/2021/10/IMG-20211023-WA0001.jpg
END:VEVENT
END:VCALENDAR